BEGIN:VCALENDAR
PRODID:-//dvv-bw.de//dvv.Portalplattform//DE
VERSION:2.0
METHOD:PUBLISH
BEGIN:VEVENT
DTSTART:20261008T123000Z
DTEND:20261008T143000Z
DTSTAMP:20260419T141611Z
UID:523253020852-523253020851-1791410400000
SUMMARY:TreffPunkt: Herbstlieder
LOCATION:Ev. Gemeindehaus Waldh.
DESCRIPTION:TreffPunkt: Herbstlieder
CLASS:PUBLIC
X-ALT-DESC;FMTTYPE=text/html:TreffPunkt: Herbstlieder
END:VEVENT
END:VCALENDAR
