BEGIN:VCALENDAR
PRODID:-//dvv-bw.de//dvv.Portalplattform//DE
VERSION:2.0
METHOD:PUBLISH
BEGIN:VEVENT
DTSTART:20261016T170000Z
DTEND:20261016T190000Z
DTSTAMP:20260419T123531Z
UID:523253021352-523253021351-1792101600000
SUMMARY:Öffentlicher Themenabend
LOCATION:Bürgerhaus Schillerschule\, Raum 201
DESCRIPTION:Öffentlicher Themenabend
CLASS:PUBLIC
X-ALT-DESC;FMTTYPE=text/html:Öffentlicher Themenabend
END:VEVENT
END:VCALENDAR
