BEGIN:VCALENDAR
PRODID:-//dvv-bw.de//dvv.Portalplattform//DE
VERSION:2.0
METHOD:PUBLISH
BEGIN:VEVENT
DTSTART:20260426T090000Z
DTEND:20260426T150000Z
DTSTAMP:20260419T175634Z
UID:523254088853-523252529001-1777154400000
SUMMARY:Naturparkmarkt
LOCATION:Oriaplatz
DESCRIPTION:Naturparkmarkt
CLASS:PUBLIC
X-ALT-DESC;FMTTYPE=text/html:Naturparkmarkt
END:VEVENT
END:VCALENDAR
