BEGIN:VCALENDAR
PRODID:-//dvv-bw.de//dvv.Portalplattform//DE
VERSION:2.0
METHOD:PUBLISH
BEGIN:VEVENT
DTSTART:20261004T090000Z
DTEND:20261004T110000Z
DTSTAMP:20260419T193155Z
UID:523253020602-523253020601-1791064800000
SUMMARY:Mostfest
LOCATION:Obstanlage Waldhausen
DESCRIPTION:Mostfest
CLASS:PUBLIC
X-ALT-DESC;FMTTYPE=text/html:Mostfest
END:VEVENT
END:VCALENDAR
