BEGIN:VCALENDAR
PRODID:-//dvv-bw.de//dvv.Portalplattform//DE
VERSION:2.0
METHOD:PUBLISH
BEGIN:VEVENT
DTSTART:20261014T123000Z
DTEND:20261014T143000Z
DTSTAMP:20260419T212505Z
UID:523253021252-523253021251-1791928800000
SUMMARY:Mittwochs Café
LOCATION:Dorfladen Waldhausen
DESCRIPTION:Mittwochs Café
CLASS:PUBLIC
X-ALT-DESC;FMTTYPE=text/html:Mittwochs Café
END:VEVENT
END:VCALENDAR
