BEGIN:VCALENDAR
PRODID:-//dvv-bw.de//dvv.Portalplattform//DE
VERSION:2.0
METHOD:PUBLISH
BEGIN:VEVENT
DTSTART:20260430T150000Z
DTEND:20260430T170000Z
DTSTAMP:20260419T170823Z
UID:523252529202-523252529201-1777500000000
SUMMARY:Maifeier
LOCATION:Maibaum an der Remstalhalle
DESCRIPTION:Maifeier
CLASS:PUBLIC
X-ALT-DESC;FMTTYPE=text/html:Maifeier
END:VEVENT
END:VCALENDAR
