BEGIN:VCALENDAR
PRODID:-//dvv-bw.de//dvv.Portalplattform//DE
VERSION:2.0
METHOD:PUBLISH
BEGIN:VEVENT
DTSTART:20260429T220000Z
DTEND:20260429T220000Z
DTSTAMP:20260419T223517Z
UID:523252529152-523252529151-1777500000000
SUMMARY:Jungseniorenwanderung
DESCRIPTION:Jungseniorenwanderung
CLASS:PUBLIC
X-ALT-DESC;FMTTYPE=text/html:Jungseniorenwanderung
END:VEVENT
END:VCALENDAR
