BEGIN:VCALENDAR
PRODID:-//dvv-bw.de//dvv.Portalplattform//DE
VERSION:2.0
METHOD:PUBLISH
BEGIN:VEVENT
DTSTART:20261002T160000Z
DTEND:20261002T180000Z
DTSTAMP:20260419T200105Z
UID:523253020452-523253020451-1790892000000
SUMMARY:Friedensgebet
LOCATION:Christuskirche
DESCRIPTION:Friedensgebet
CLASS:PUBLIC
X-ALT-DESC;FMTTYPE=text/html:Friedensgebet
END:VEVENT
END:VCALENDAR
