BEGIN:VCALENDAR
PRODID:-//dvv-bw.de//dvv.Portalplattform//DE
VERSION:2.0
METHOD:PUBLISH
BEGIN:VEVENT
DTSTART:20260424T160000Z
DTEND:20260424T180000Z
DTSTAMP:20260419T162934Z
UID:523252528852-523252528851-1776981600000
SUMMARY:Friedensgebet
LOCATION:Martin-Luther-Kirche Waldh.
DESCRIPTION:Friedensgebet
CLASS:PUBLIC
X-ALT-DESC;FMTTYPE=text/html:Friedensgebet
END:VEVENT
END:VCALENDAR
