BEGIN:VCALENDAR
PRODID:-//dvv-bw.de//dvv.Portalplattform//DE
VERSION:2.0
METHOD:PUBLISH
BEGIN:VEVENT
DTSTART:20261004T080000Z
DTEND:20261004T100000Z
DTSTAMP:20260419T170832Z
UID:523253020552-523253020551-1791064800000
SUMMARY:Familiengottesdienst zu Erntedank
LOCATION:Stadtkirche
DESCRIPTION:Familiengottesdienst zu Erntedank
CLASS:PUBLIC
X-ALT-DESC;FMTTYPE=text/html:Familiengottesdienst zu Erntedank
END:VEVENT
END:VCALENDAR
