BEGIN:VCALENDAR
PRODID:-//dvv-bw.de//dvv.Portalplattform//DE
VERSION:2.0
METHOD:PUBLISH
BEGIN:VEVENT
DTSTART:20261004T080000Z
DTEND:20261004T100000Z
DTSTAMP:20260419T170246Z
UID:523253020502-523253020501-1791064800000
SUMMARY:Erntedankgottesdienst
LOCATION:Martin-Luther-Kirche Waldh.
DESCRIPTION:Erntedankgottesdienst
CLASS:PUBLIC
X-ALT-DESC;FMTTYPE=text/html:Erntedankgottesdienst
END:VEVENT
END:VCALENDAR
