BEGIN:VCALENDAR
PRODID:-//dvv-bw.de//dvv.Portalplattform//DE
VERSION:2.0
METHOD:PUBLISH
BEGIN:VEVENT
DTSTART:20260424T220000Z
DTEND:20260424T220000Z
DTSTAMP:20260419T160123Z
UID:523252528902-523252528901-1777068000000
SUMMARY:Altpapiersammlung
LOCATION:Waldhausen
DESCRIPTION:Altpapiersammlung
CLASS:PUBLIC
X-ALT-DESC;FMTTYPE=text/html:Altpapiersammlung
END:VEVENT
END:VCALENDAR
